BEGIN:VCALENDAR
VERSION:2.0
CALSCALE:GREGORIAN
PRODID:-//MyApp//Calendar 1.0//EN
BEGIN:VEVENT
METHOD:PUBLISH
UID:12845@regionalniportaly.cz
DTSTAMP:20260426T025635Z
DTSTART;VALUE=DATE:20171111
DTEND;VALUE=DATE:20171112
SUMMARY:Svatomartinské husy v Zámecké restauraci Austerlitz 10.-12.11.2017
DESCRIPTION:Letos budeme servírovat husy z naše vlastního domácího chovu včetně dalších pochoutek z naší zámecké kuchyně
LOCATION:Slavkov u Brna
END:VEVENT
END:VCALENDAR