BEGIN:VCALENDAR
VERSION:2.0
CALSCALE:GREGORIAN
PRODID:-//MyApp//Calendar 1.0//EN
BEGIN:VEVENT
METHOD:PUBLISH
UID:12995@regionalniportaly.cz
DTSTAMP:20260426T025732Z
DTSTART;VALUE=DATE:20171111
DTEND;VALUE=DATE:20171112
SUMMARY:Pohádkové podzámčí v sobotu 11.11.2017
DESCRIPTION:Bohatý doprovodný program pro děti v areálu Zámku Slavkov! Soutěže\, hry\, tanec i hudba - to vše čeká na vše ratolesti 11.11.2017. A zatímco děti se budou bavit\, vy si můžete vychutnat gastronomické lahůdky na Svatomartinských slavnostech.
LOCATION:Slavkov u Brna
END:VEVENT
END:VCALENDAR