BEGIN:VCALENDAR
VERSION:2.0
CALSCALE:GREGORIAN
PRODID:-//MyApp//Calendar 1.0//EN
BEGIN:VEVENT
METHOD:PUBLISH
UID:16657@regionalniportaly.cz
DTSTAMP:20260423T194511Z
DTSTART;VALUE=DATE:20181125
DTEND;VALUE=DATE:20181126
SUMMARY:Výstava "JUDr. Václav Kounic"
DESCRIPTION:Výstava bude věnována významnému politikovi a mecenáši JUDr. Václavu Kounicovi. (170 let od * a 105 let od†). Osobnost bude představena v kontextu nejbližších představitelů české větve rodu Kouniců\, návštěvník se dále dozví\, jaký vztah měl Václav Kounic s básníky\, malíři či umělci – jako byli např. Josef Václav Sládek\, Josef Klír či Antonín Dvořák. Celá výstava bude doplněna předměty z kounicovské pozůstalosti\, které jsou uloženy ve sbírkách ZS-A a které byly v posledních 7 letech restaurovány studenty Vyšší odborné školy restaurátorské v Brně v rámci Slavkovského restaurování.\n\nKDY: 6. 9. - 25. 11. 2018\, dle otevírací doby zámku\nKDE: Zámek Slavkov - Austerlitz\nVSTUPNÉ: 60 Kč dospělí\, 50 Kč senioři\, 40 Kč děti\, ZTP\, studenti
LOCATION:Slavkov u Brna
END:VEVENT
END:VCALENDAR