BEGIN:VCALENDAR
VERSION:2.0
CALSCALE:GREGORIAN
PRODID:-//MyApp//Calendar 1.0//EN
BEGIN:VEVENT
METHOD:PUBLISH
UID:17378@regionalniportaly.cz
DTSTAMP:20260423T180658Z
DTSTART;VALUE=DATE:20181124
DTEND;VALUE=DATE:20181125
SUMMARY:Kateřinské Hody Blažovice 2018
DESCRIPTION:Od 20:00 hod.\, KD \n\nSTÁRKY Z BLAŽOVIC Vás srdečně zvou na KATEŘINSKÉ HODY\n\n\nČeká tu na vás:\n- bohatá tombola \n- půlnoční překvapení \n- dobré víno \n- a hlavně usměvavé stárky \n\nK tanci a poslechu Vám bude hrát Sivická kapela.
LOCATION:Blažovice
END:VEVENT
END:VCALENDAR