BEGIN:VCALENDAR
VERSION:2.0
CALSCALE:GREGORIAN
PRODID:-//MyApp//Calendar 1.0//EN
BEGIN:VEVENT
METHOD:PUBLISH
UID:17522@regionalniportaly.cz
DTSTAMP:20260423T151836Z
DTSTART;VALUE=DATE:20181028
DTEND;VALUE=DATE:20181029
SUMMARY:28. října – oslavy vzniku Československé republiky
DESCRIPTION:Od 16:00 hod.\n\nSlavkov si připomene vznik Republiky odhalením památníku i videomappingem
LOCATION:Slavkov u Brna
END:VEVENT
END:VCALENDAR