BEGIN:VCALENDAR
VERSION:2.0
CALSCALE:GREGORIAN
PRODID:-//MyApp//Calendar 1.0//EN
BEGIN:VEVENT
METHOD:PUBLISH
UID:17725@regionalniportaly.cz
DTSTAMP:20260423T114255Z
DTSTART;VALUE=DATE:20181207
DTEND;VALUE=DATE:20181208
SUMMARY:Výstava vánočních stromečků
DESCRIPTION:20.11. - 7.12.2018\n\nZámek Slavkov-Austerlitz vám nabídne vánoční inspiraci v podobě výstavy vánočních stromečků\, které nazdobí děti a studenti slavkovských škol. Stromečky budou umístěné v přízemí zámku - v sala terreně\, portiku a čekárně před kavárnou. Přijďte se k nám nejen inspirovat\, ale i oddechnout v předvánočním shonu a také hlasovat o nejhezčí nazdobený stromeček.\n\nVstupné zdarma
LOCATION:Slavkov u Brna
END:VEVENT
END:VCALENDAR