BEGIN:VCALENDAR
VERSION:2.0
CALSCALE:GREGORIAN
PRODID:-//MyApp//Calendar 1.0//EN
BEGIN:VEVENT
METHOD:PUBLISH
UID:17988@regionalniportaly.cz
DTSTAMP:20260423T194645Z
DTSTART;VALUE=DATE:20181202
DTEND;VALUE=DATE:20181203
SUMMARY:Mikuláš na zámku Slavkov - Austerlitz
DESCRIPTION:V neděli 2. 12. 2018 bude pro děti připraven předvánoční program na zámku.\n\nV časech 12:00\, 13:00 a 14:00 se můžete jít podívat na čerty do zámeckého podzemí v rámci speciální oživené prohlídky. Vstupenky doporučujeme z důvodu omezené kapacity rezervovat na tel. 544 227 548 a na pokladně vyzvednout nejpozději 15 min. před prohlídkou.\n\nOd 12:30 bude vstupní hala zámku proměněna v nebe a Ježíškovu poštu\, kde si děti napíší nebo nakreslí dopis Ježíškovi a ve vlastnoručně vyrobené a speciálním razítkem oražené obálce jej vhodí do schránky. Čekání na Mikuláše si mohou děti zkrátit také dalšími aktivitami v kreativní dílně\, mimo jiné i zdobením perníčků\, a ohřát se můžete v knihovně\, kde bude ve třech přibližně půlhodinových blocích probíhat čtení pohádek – začínáme vždy ve 12:00\, 13:00 a 14:00 hod.\n\nV 15:00 potom mohou děti na nádvoří očekávat příjezd Mikuláše s čertem a andělem\, kteří budou rozdávat hodným dětem nadílku. Balíčky je třeba dopředu objednat na informačním centru (nejpozději do 26. 11.). Cena balíčku je 100 Kč.\n\nPo skončení programu na zámku se můžete přemístit na Palackého náměstí\, kde Vás čeká v 17:00 slavnostní rozsvícení vánočního stromu. Vstupné na program na zámku i náměstí je zdarma a hradí se pouze vstup na prohlídku do podzemí.
LOCATION:Slavkov u Brna
END:VEVENT
END:VCALENDAR