BEGIN:VCALENDAR
VERSION:2.0
CALSCALE:GREGORIAN
PRODID:-//MyApp//Calendar 1.0//EN
BEGIN:VEVENT
METHOD:PUBLISH
UID:19363@regionalniportaly.cz
DTSTAMP:20260423T024127Z
DTSTART;VALUE=DATE:20190413
DTEND;VALUE=DATE:20190414
SUMMARY:Jarní trhy v zámeckém parku
DESCRIPTION:Již tradičně i tento rok přivítáme jaro v zámeckém parku společně s milovníky květin a zahrádkářství. Tak jako každoročně si můžete zakoupit přísady\, balkónovky\, skalničky\, okrasné stromky\, keře nebo včelařské výrobky. Těšit se můžete i na řemeslníky – keramiku\, bižuterii\, dřevěné hračky apod. Nebude chybět ani občerstvení.\n\n12. ročník populárních jarních trhů se uskuteční v sobotu 13. dubna 2019. (pozor – předchozím čísle zpravodaje bylo uvedeno datum 20. dubna). Na akci se neplatí vstupné.\n\nPestrobarevné květiny a výrobky zaplaví také interiér zámku. Po celý víkend 13. a 14. dubna se v Rubensově sále uskuteční oblíbená prodejní Velikonoční výstava. Těšit se můžete na barevné inspirace\, květinové vazby\, kraslice a nevšední dekorace na Velikonoce. Vstupné dobrovolné.
LOCATION:Slavkov u Brna
END:VEVENT
END:VCALENDAR