BEGIN:VCALENDAR
VERSION:2.0
CALSCALE:GREGORIAN
PRODID:-//MyApp//Calendar 1.0//EN
BEGIN:VEVENT
METHOD:PUBLISH
UID:20127@regionalniportaly.cz
DTSTAMP:20260423T164207Z
DTSTART;VALUE=DATE:20190428
DTEND;VALUE=DATE:20190429
SUMMARY:Výstava "Florea v Rajhradě - růže 2019"
DESCRIPTION:27. - 28. 4. 2019\, Klášter Rajhrad\n\nTisíce květin\, více než 360 druhů růží z Afriky\, Ameriky\, Holandska a dalších produkčních oblastí. \n\nVstupné dobrovolné.
LOCATION:Rajhrad
END:VEVENT
END:VCALENDAR