BEGIN:VCALENDAR
VERSION:2.0
CALSCALE:GREGORIAN
PRODID:-//MyApp//Calendar 1.0//EN
BEGIN:VEVENT
METHOD:PUBLISH
UID:32868@regionalniportaly.cz
DTSTAMP:20260422T205810Z
DTSTART;VALUE=DATE:20230527
DTEND;VALUE=DATE:20230528
SUMMARY:Prohlídky zámeckých depozitářů
DESCRIPTION:Zajímá Vás\, co se skrývá v zámeckých depozitářích? V prohlídkové trase máme vystaveno to nejlepší\, ale je spousta pokladů\, které se tam nevešly a nebo nejsou v tak dobré kondici (i když zajímavé jsou stejně nebo ještě více). Projdete si celé druhé patro zámku\, kam běžně návštěvníky nepouštíme a  jako bonus dostanete výklad od jednoho z našich historiků osobně. Prohlídka proběhne pouze v jednom termínu během celého roku a kapacita je omezená\, takže doporučujeme zakoupit vstupenky s předstihem. \nČasy prohlídek: 09:30\, 11:30 a 13:30
LOCATION:Slavkov u Brna
END:VEVENT
END:VCALENDAR