BEGIN:VCALENDAR
VERSION:2.0
CALSCALE:GREGORIAN
PRODID:-//MyApp//Calendar 1.0//EN
BEGIN:VEVENT
METHOD:PUBLISH
UID:32869@regionalniportaly.cz
DTSTAMP:20260422T190912Z
DTSTART;VALUE=DATE:20230503
DTEND;VALUE=DATE:20231031
SUMMARY:Právo útrpné na Slavkovsku
DESCRIPTION:Expozice o hrdelním právu ukazuje příběhy mučených a trestaných na Slavkovsku a kruté praktiky středověkého a novověkého soudnictví od 13. do 18. století. Autentické pojetí výstavy podtrhuje prostředí\, do něhož je instalována – díky ní ožilo rozsáhlé barokní zámecké podzemí. Historici zámku shromáždili informace nejen o vývoji a způsobech tortury\, ale i konkrétní příběhy obviněných obyvatel Slavkovska\, kteří zažili kruté postupy tehdejšího soudnictví.\nExpozice se nachází v zámeckém podzemí a je vhodné teplejší oblečení. 
LOCATION:Slavkov u Brna
END:VEVENT
END:VCALENDAR