BEGIN:VCALENDAR
VERSION:2.0
CALSCALE:GREGORIAN
PRODID:-//MyApp//Calendar 1.0//EN
BEGIN:VEVENT
METHOD:PUBLISH
UID:32872@regionalniportaly.cz
DTSTAMP:20260422T222840Z
DTSTART;VALUE=DATE:20230624
DTEND;VALUE=DATE:20230625
SUMMARY:Veteranfest Slavkov
DESCRIPTION:Tradiční setkání majitelů a obdivovatelů historických vozidel a motocyklů do roku 1989.\nStovky historických vozidel a motocyklů opět míří na Slavkov! Jeden z největších srazů milovníků a majitelů auto – moto veteránů pod širým nebem se uskuteční poslední červnovou sobotu 24. 6. 2023 a to do 8:00 do 14:00 hodin. Patronkou letošního setkání se opět stala Alena Antalová\, hvězda televizního seriálu Četnické humoresky. \nTisíce fanoušků krásy a historie se schází v impozantním prostředí zámeckého parku ve Slavkově u Brna již mnoho let. My se už moc těšíme na setkání letošní. \n \nPředprodej platí do 16 . 6. 2023 (včetně).\nZDARMA - děti do 10 let a doprovod osob ZTP/P\n 
LOCATION:Slavkov u Brna
END:VEVENT
END:VCALENDAR