BEGIN:VCALENDAR
VERSION:2.0
CALSCALE:GREGORIAN
PRODID:-//MyApp//Calendar 1.0//EN
BEGIN:VEVENT
METHOD:PUBLISH
UID:33365@regionalniportaly.cz
DTSTAMP:20260422T204531Z
DTSTART;VALUE=DATE:20230602
DTEND;VALUE=DATE:20230603
SUMMARY:Jablkoň a Romero Band
DESCRIPTION:Skupina Jablkoň je stálicí české muziky už přes čtyřicet let. Svým nevšedním nadhledem se pohybuje na hranících moderní vážné hudby a popu. Její začátky jsou spojeny především spoluprací s Jazzovou sekcí. Díky své „nezařaditelnosti“ se stejně samozřejmě pohybovala v oblasti folku\, rocku\, ale i jazzu a později také vážné hudby. Koncem osmdesátých let Jablkoň navázala pravidelnou spolupráci s houslovým virtuosem Jaroslavem Svěceným (Jablkoň &amp\; Svěcený) a následně i s Českým symfonickým orchestrem (FISYO) v projektu Symphonic Jablkoň. V té době také využila otevření hranic a začala velmi intenzivně koncertovat v zahraničí (Evropa\, Severní Amerika\, Afrika). Postupem let skupina sice omládla\, ale svůj tradičně jablkoňsko - originální přístup k hudbě si ponechala. Kromě koncertování a natáčení desek dělá i hudbu k filmům (např. Smradi) a divadelním či televizním inscenacím.Předskokanem této legendy bude nadějná mladá kapela z Kyjova Romero Band\, ve které se mísí prvky klasické rockové hudby a folkloru. Budete překvapeni\, co jsme pro vás objevili.VSTUPENKY BUDE MOŽNÉ SI ZAKOUPIT TAKÉ NA MÍSTĚ.
LOCATION:Slavkov u Brna
END:VEVENT
END:VCALENDAR