BEGIN:VCALENDAR
VERSION:2.0
CALSCALE:GREGORIAN
PRODID:-//MyApp//Calendar 1.0//EN
BEGIN:VEVENT
METHOD:PUBLISH
UID:36465@regionalniportaly.cz
DTSTAMP:20260422T220304Z
DTSTART;VALUE=DATE:20231127
DTEND;VALUE=DATE:20231129
SUMMARY:Vánoční focení na Jalováku
DESCRIPTION:
LOCATION:Heršpice
END:VEVENT
END:VCALENDAR