BEGIN:VCALENDAR
VERSION:2.0
CALSCALE:GREGORIAN
PRODID:-//MyApp//Calendar 1.0//EN
BEGIN:VEVENT
METHOD:PUBLISH
UID:44603@regionalniportaly.cz
DTSTAMP:20260424T181102Z
DTSTART;VALUE=DATE:20240810
DTEND;VALUE=DATE:20240811
SUMMARY:Sobotní hodová zábava
DESCRIPTION:Tradiční Vavřinecké hody\, sobotní hodová zábava s kapelou Hanačka na Sokolském hřišti v Křenovicích.Akce se koná za podpory obce Křenovice.
LOCATION:Křenovice
END:VEVENT
END:VCALENDAR