BEGIN:VCALENDAR
VERSION:2.0
CALSCALE:GREGORIAN
PRODID:-//MyApp//Calendar 1.0//EN
BEGIN:VEVENT
METHOD:PUBLISH
UID:51591@regionalniportaly.cz
DTSTAMP:20260424T143745Z
DTSTART;VALUE=DATE:20250408
DTEND;VALUE=DATE:20250409
SUMMARY:Jak životní styl ovlivňuje vývoj dětí i naše vztahy
DESCRIPTION:Přednáška Jiřího Haldy je určená rodičům\, prarodičům\, pedagogickým pracovníkům\, tedy všem\, kteří mají zájem...Jiří Halda je speciální pedagog\, lektor a rodinný terapeut\, který se orientuje na poruchy chování dětí\, učení a rodinné vztahy.Přednáška se bude věnovat nejběžnějším chybám v našem životním stylu a jejich vlivu na vývoj dětí i rodinné vztahy.Možná si také odpovíme na otázky...Jak lze každý den dítěti nenápadně ubližovat?Jak málo stačí\, abychom měli dobrý pocit ze společně tráveného času?A co lze udělat pro to\, aby nám vlastní děti nelezly na nervy?
LOCATION:Křenovice
END:VEVENT
END:VCALENDAR