BEGIN:VCALENDAR
VERSION:2.0
CALSCALE:GREGORIAN
PRODID:-//MyApp//Calendar 1.0//EN
BEGIN:VEVENT
METHOD:PUBLISH
UID:52217@regionalniportaly.cz
DTSTAMP:20260423T102258Z
DTSTART;VALUE=DATE:20250703
DTEND;VALUE=DATE:20250704
SUMMARY:Strašidlo Cantervillské
DESCRIPTION:Když se pragmatická americká rodina nastěhuje do starobylého anglického sídla\, netuší\, že spolu s ním získává i poněkud zoufalé strašidlo. Lord Canterville varoval nové majitele před přítomností ducha\, ale moderní přístup Američanů k nadpřirozenu způsobí řadu nečekaných a komických situací. Dokáže duch Sir Simon Otisovy vyděsit\, nebo ho čeká osud horší než smrt?
LOCATION:Slavkov u Brna
END:VEVENT
END:VCALENDAR