BEGIN:VCALENDAR
VERSION:2.0
CALSCALE:GREGORIAN
PRODID:-//MyApp//Calendar 1.0//EN
BEGIN:VEVENT
METHOD:PUBLISH
UID:52522@regionalniportaly.cz
DTSTAMP:20260423T023205Z
DTSTART;VALUE=DATE:20250729
DTEND;VALUE=DATE:20250803
SUMMARY:Letní filmový festival a napoleonská filmová přehlídka
DESCRIPTION:Letní filmový festival ve Slavkově nabídne i napoleonskou filmovou přehlídku.\n \nZámecký park ve Slavkově u Brna se i letos promění v letní kino pod širým nebem. Letní filmový festival\, který proběhne od 29. července do 3. srpna 2025\, přinese tradiční večery plné filmových zážitků\, ale také jednu významnou novinku – Napoleonskou filmovou přehlídku.\nLetos se návštěvníci mohou těšit na tři tematické večery věnované Napoleonovi a jeho působení ve střední Evropě\, které jsou součástí společného česko-slovenského projektu Cesta k míru - Více o projektu\n \nPřehlídka oživí oba zámecké areály – ve Slavkově i u slovenského partnera v Holíči – a nabídne výpravné historické snímky\, které propojují filmové umění s historií regionu. Součástí projekcí bude i videoprezentace partnerů projektu a ukázky výsledků česko-slovenské spolupráce. \nNapoleonská filmová přehlídka (vstup zdarma\, park bude otevřen bez omezení):\n \n29. 7. – tematický večer: Napoleonská filmová přehlídkaJá Napoleon Evropa (28 min\, 2005\, dokument)Cesta praporů (15 min\, 2005\, dokument)Listí ze stromu svobody (20 min\, 2020\, studentský film)\n30.7. – tematický večer: Napoleonská filmová přehlídkaWaterloo (98 min\, 1967\, černobílý\, drama)\n31. 7. – tematický večer: Napoleonská filmová přehlídkaNapoleon\, ve jménu umění (91 min\, 2021\, dokumentární)\nVe dnech 29.–31. 7. 2025 je vstup na promítání zdarma v rámci Napoleonské filmové přehlídky a park zůstane přístupný bez uzavírání.\n \nLetní filmový festival - program:\n1. 8. Čarodějnice a lovec (101 min\, 2025\, akční\, sci-fi)2. 8. Vlny (131 min\, 2024\, český\, drama)3. 8. Já\, rebelka (94 min\, 2024\, animovaná pohádka) \n \nPraktické informace\nVstupné na projekce od 1. do 3. srpna je 120 Kč / osoba - POZOR: Platba možná pouze v hotovosti! Děti do 3 let mají vstup zdarma.Promítání začíná ve 21:00 hodin.Od 19:00 bude park uzavřen a opět otevřen ve 20:00 pouze pro návštěvníky s platnou vstupenkou.Vstupenky bude možné zakoupit výhradně na místě u jižní brány.Doporučujeme vzít si deky nebo skládací židle. K dispozici budou mobilní toalety a občerstvení.Za drobného deště se promítá. Projekce se přeruší pouze při silném větru nebo prudkém lijáku.Pokud bylo již odpromítáno více než 20 minut\, vstupné se nevrací.Změna programu vyhrazena.\nTěšíme se na vás při letošních filmových večerech pod hvězdami – letos i s dotekem napoleonské historie!
LOCATION:Slavkov u Brna
END:VEVENT
END:VCALENDAR