BEGIN:VCALENDAR
VERSION:2.0
CALSCALE:GREGORIAN
PRODID:-//MyApp//Calendar 1.0//EN
BEGIN:VEVENT
METHOD:PUBLISH
UID:52523@regionalniportaly.cz
DTSTAMP:20260422T204439Z
DTSTART;VALUE=DATE:20250809
DTEND;VALUE=DATE:20250810
SUMMARY:Den princezen a rytířů
DESCRIPTION:Pohádkový Den princezen a rytířů 2025  Zveme všechny děti a rodiče na akci Den princezen a rytířů\, který je věnovaný pohádkám\, princeznám a rytířským soubojům. Na podiu na vás čeká bohatý program plný hvězd a oblíbených pohádkových postav. Sabina Laurinová provede s princi Jakubem z Toušic a Mišugem z Brna pohádkovým dnem na zámcích Karlova Koruna v Chlumci nad Cidlinou\, Blatná a Slavkov u Brna.  Návštěvníky rozhodně zaujme pestrý doprovodný program s tematickými dílničkami nebo interaktivní hrou\, která pobaví holky\, kluky i rodiče. A to je jen zlomek toho\, co vás čeká! PRO PRODEJCE:\nKontaktujte pořadatele akce https://www.denprincezen.cz/
LOCATION:Slavkov u Brna
END:VEVENT
END:VCALENDAR