BEGIN:VCALENDAR
VERSION:2.0
CALSCALE:GREGORIAN
PRODID:-//MyApp//Calendar 1.0//EN
BEGIN:VEVENT
METHOD:PUBLISH
UID:53935@regionalniportaly.cz
DTSTAMP:20260422T144227Z
DTSTART;VALUE=DATE:20250607
DTEND;VALUE=DATE:20250608
SUMMARY:Křenovický Rakovec 2025
DESCRIPTION:Přijměte pozvání na pohodový hudební festival v Křenovicích (nedaleko Slavkova u Brna).PROGRAM15:30&nbsp\; &nbsp\; zahájení15:35&nbsp\; &nbsp\; CARETA16:30&nbsp\; &nbsp\; HLUBOKÉ NEDOROZUMĚNÍ17:30&nbsp\; &nbsp\; A. M. ÚLET18:30&nbsp\; &nbsp\; LADA &amp\; KAPELA20:00&nbsp\; &nbsp\; JIŘÍ PAVLICA &amp\; HRADIŠŤAN21:45&nbsp\; &nbsp\; LUCY &amp\; HANGOVERVíce zde:&nbsp\;https://krenovickyrakovec.webnode.cz/novinky/Více zde:&nbsp\;https://krenovickyrakovec.webnode.cz/o-nas/
LOCATION:Křenovice
END:VEVENT
END:VCALENDAR