BEGIN:VCALENDAR
VERSION:2.0
CALSCALE:GREGORIAN
PRODID:-//MyApp//Calendar 1.0//EN
BEGIN:VEVENT
METHOD:PUBLISH
UID:55005@regionalniportaly.cz
DTSTAMP:20260423T094525Z
DTSTART;VALUE=DATE:20250615
DTEND;VALUE=DATE:20250616
SUMMARY:Kráska a zvíře - kostýmovaná prohlídka zámku
DESCRIPTION:Kráska a zvíře na zámkuUkrutná bouře\, nečas a zoufalství\, zahnalo muže ve středním věku do nejbližšího úkrytu. Avšak to netušil\, že se ocitl v zakletém království\, kterému vládne obrovský netvor. Muži byla projevena pohostinnost a poskytnuto útočiště. Když ale zámek opouštěl\, utrhl posvátnou růži\, jako dárek pro svoji krásnou dceru. A to neměl dělat.\nPřijďte se podívat\, jak příběh skončí.\nZveme Vás na kostýmovanou prohlídku zámku a hranou pohádku pro děti\n15. 6. 2025\, v 13:30\, 14:30 a 15:30 hodin.\nDoporučujeme zakoupení vstupenek v předstihu ZDE nebo osobně na pokladně zámku.
LOCATION:Slavkov u Brna
END:VEVENT
END:VCALENDAR