BEGIN:VCALENDAR
VERSION:2.0
CALSCALE:GREGORIAN
PRODID:-//MyApp//Calendar 1.0//EN
BEGIN:VEVENT
METHOD:PUBLISH
UID:56288@regionalniportaly.cz
DTSTAMP:20260422T203904Z
DTSTART;VALUE=DATE:20250816
DTEND;VALUE=DATE:20250817
SUMMARY:Císařské narozeniny
DESCRIPTION:Kostýmované prohlídky zámku s Napoleonem – 16. 8. 2025\nOpět jsou tu prázdniny – čas volna\, zábavy a lenošení. Slunce svítí\, je horko\, a všichni\, tedy nejen panstvo\, ale i služebnictvo\, jen tak lelkují. Ale idylku letního dne náhle naruší příjezd vzácného hosta\, který se na zámku objevuje jen dvakrát do roka. Jednou\, aby zde svedl vítěznou bitvu… a podruhé? Aby oslavil své narozeniny! Už zase. Nebo že by je měl teprve před sebou?\nZveme vás na kostýmované prohlídky zámku s Napoleonem\, které proběhnou v sobotu 16. srpna 2025 v rámci prohlídkové trasy zámku. Připraveny jsou pro vás prohlídky v časech 10.30\, 11.30\, 12.30\, 14.30 a 15.30.\nVstupenky je možné zakoupit na pokladně zámku nebo on-line na: www.zamek-slavkov.cz v sekci Předprodej – Prohlídky.\nPřijďte zažít zámek v jiném světle – s humorem\, napětím a kapkou historie.\n 
LOCATION:Slavkov u Brna
END:VEVENT
END:VCALENDAR