BEGIN:VCALENDAR
VERSION:2.0
CALSCALE:GREGORIAN
PRODID:-//MyApp//Calendar 1.0//EN
BEGIN:VEVENT
METHOD:PUBLISH
UID:56353@regionalniportaly.cz
DTSTAMP:20260423T065156Z
DTSTART;VALUE=DATE:20250920
DTEND;VALUE=DATE:20250921
SUMMARY:Václavský jarmark ve Slavkově
DESCRIPTION:Zámecký park ožije Václavským jarmarkem\nSlavkov u Brna – V sobotu 20. září 2025 se zámecký park ve Slavkově u Brna promění v místo plné vůní\, chutí\, hudby a tradic. Od 9:00 do 16:00 hodin se zde uskuteční tradiční Václavský jarmark\, který láká na bohatý program pro celou rodinu.\nNávštěvníci se mohou těšit na vystoupení cimbálové muziky\, která navodí pravou podzimní atmosféru. Milovníci dobrého pití ocení rozmanitou nabídku burčáků a gurmáni si pochutnají na specialitách od místních prodejců.\n \nSoučástí akce bude i výstava ovoce a zeleniny „Svět v zahradě“ v severním křídle bývalých zámeckých koníren v sobotu 20. 9. od 9:00 do 17:00\, a v neděli 21. 9. od 9:00 do 15:00 hodin.\nZahrádkáři zde představí své nejlepší výpěstky a chybět nebude ani prodej čerstvého ovoce\, moštů\, marmelád\, vín či včelích produktů. V oblíbené Kavárničce si návštěvníci vychutnají netradiční speciality. Celý den doplní tombola a přátelská atmosféra\, která k Václavskému svátku neodmyslitelně patří. Více informací o akci naleznete na www.zahradkari.cz/zo/slavkovubrna/ nebo na e-mailu slavkovubrna@zoczs.cz.\n \nProgram zpestří prohlídky zámeckých depozitářů\, které se konají pouze jednou ročně. Zájemci tak nahlédnou do prostor běžně nepřístupných veřejnosti a uvidí cenné sbírkové předměty. Historikové zámku provedou tři skupiny v sobotu 20. 9. 2025\, v časech 9:30\, 11:30 a 13:30 hodin. Vzhledem k omezené kapacitě doporučují pořadatelé zakoupit vstupenky předem na ZDE -  PROHLÍDKY - DATUM nebo na pokladně zámku.\nPřijďte si užít den plný tradic\, chutí a podzimní pohody!\n \nPRO PRODEJCE: \nKAPACITA NAPLNĚNA!!
LOCATION:Slavkov u Brna
END:VEVENT
END:VCALENDAR