BEGIN:VCALENDAR
VERSION:2.0
CALSCALE:GREGORIAN
PRODID:-//MyApp//Calendar 1.0//EN
BEGIN:VEVENT
METHOD:PUBLISH
UID:57181@regionalniportaly.cz
DTSTAMP:20260423T090730Z
DTSTART;VALUE=DATE:20250906
DTEND;VALUE=DATE:20250907
SUMMARY:Cesta do středověku k příležitosti výročí 660 let od první písemné zmínky o zaniklé vesnici Konůvky
DESCRIPTION:Dvoudenní akce Cesta do středověku k příležitosti výročí 660 let od první písemné zmínky o zaniklé středověké vesnici Konůvky se bude konat v sobotu 6. a neděli 7. září 2025.\nSobota 6. září bude věnována rytířským radovánkám: turnaji rytířských družin\,lukostřeleckému turnaji pro děti i dospělé\, ukázkám středověkých řemesel a středověkéhostolování. Pro nejmenší je připraveno šermování měkčenými zbraněmi\, hod krysou a střílení dětskými kušemi. To vše v zázemí Ekofarmy Jalový dvůr u Heršpic\, kde si děti užijí vození na ponících a domácí zvířátka\, zatímco dospělé potěší občerstvení v hospůdce U Hříbka. V sobotu proběhne také křest nového vydání publikace o zaniklé vesnici Konůvky.\nNeděle 7. září bude ve znamení putování do Konůvek. Cestu povede archeoložkaMoravského zemského muzea Mgr. Kateřina Bergerová v roli paní Kateřiny ze Sovince. Na cestě časem se poutníci dozvědí o historii okolí Konůvek: o zaniklé vsi Bohušky\, o hrádku Kepkovu\, o současném bádání a nových objevech\, a možná se také na okamžik přenesou v čase do dob dávno minulých.\nPro ty\, kdo se na náročnou cestu do Konůvek nevydají\, bude na Jalovém dvoře v nedělipřipravena zábava v lukostřelnici\, dětské šermířské aréně\, při házení krysou a střílení dětskýmikušemi.
LOCATION:Heršpice
END:VEVENT
END:VCALENDAR