BEGIN:VCALENDAR
VERSION:2.0
CALSCALE:GREGORIAN
PRODID:-//MyApp//Calendar 1.0//EN
BEGIN:VEVENT
METHOD:PUBLISH
UID:57249@regionalniportaly.cz
DTSTAMP:20260425T114229Z
DTSTART;VALUE=DATE:20250830
DTEND;VALUE=DATE:20250831
SUMMARY:AusterlitzMan aneb Triatlon pro každého
DESCRIPTION:
LOCATION:Slavkov u Brna
END:VEVENT
END:VCALENDAR