BEGIN:VCALENDAR
VERSION:2.0
CALSCALE:GREGORIAN
PRODID:-//MyApp//Calendar 1.0//EN
BEGIN:VEVENT
METHOD:PUBLISH
UID:5776@regionalniportaly.cz
DTSTAMP:20260423T154243Z
DTSTART;VALUE=DATE:20160214
DTEND;VALUE=DATE:20160215
SUMMARY:Dětský karneval se šášou Viktorem
DESCRIPTION:
LOCATION:Křenovice
END:VEVENT
END:VCALENDAR