BEGIN:VCALENDAR
VERSION:2.0
CALSCALE:GREGORIAN
PRODID:-//MyApp//Calendar 1.0//EN
BEGIN:VEVENT
METHOD:PUBLISH
UID:59010@regionalniportaly.cz
DTSTAMP:20260422T185832Z
DTSTART;VALUE=DATE:20251017
DTEND;VALUE=DATE:20251018
SUMMARY:Fleret - koncert folkové legendy
DESCRIPTION:
LOCATION:Slavkov u Brna
END:VEVENT
END:VCALENDAR