BEGIN:VCALENDAR
VERSION:2.0
CALSCALE:GREGORIAN
PRODID:-//MyApp//Calendar 1.0//EN
BEGIN:VEVENT
METHOD:PUBLISH
UID:59278@regionalniportaly.cz
DTSTAMP:20260423T053348Z
DTSTART;VALUE=DATE:20251028
DTEND;VALUE=DATE:20251029
SUMMARY:Přivítání Masaryka
DESCRIPTION:Na zámek ve Slavkově u Brna přijede opět prezident Tomáš Garrigue Masaryk v doprovodu své dcery a dalších dobově oděných dam a pánů. Oslaví tak Den vzniku samostatné Československé republiky. Starosta města spolu s dalšími členy slavkovských spolků a folkloristů přivítají otce zakladatele na nádvoří v úterý 28. října od 11.00. Srdečně zveme všechny\, kteří si chtějí důstojně připomenout 107 výročí vzniku naší republiky.\nKolona historických vozidel dorazí na Palackého náměstí již v 10.30. Delegace vedená Vítězslavem Čermákem v roli Masarykem bude doprovázena četníky\, vojáky\, i civilními obyvateli v dobových uniformách a oblečení položí květiny u jeho busty v historické radnici.\nNásledný akt přivítání na nádvoří zámku bude doprovozen zpěvem slavkovských folkloristů a cimbálové muziky Šternovjan. Následovat bude autogramiáda\, při které si můžete pořídit stylovou fotografii s první hlavou státu.\nCimbálová muzika bude doprovázet slavnostní dopoledne do 13.00.\nAkce se uskuteční za podpory Technického muzea Brno a členů spolku Čechora.\nČást dobového projevu TGM z roku 1924: „Nemohu ve vašem městě nevzpomenouti bitvy tří císařů. Vždyť jsem dnes projížděl bojiště. Světová válka pohřbila tři císařství. Na jejich místě vznikly republiky a demokracie. Také naše republika. Republika a demokracie klade každému občanu velké úkoly. V demokracii je každý občan státem. Věřím\, že svým úkolům dostojíte.“
LOCATION:Slavkov u Brna
END:VEVENT
END:VCALENDAR