BEGIN:VCALENDAR
VERSION:2.0
CALSCALE:GREGORIAN
PRODID:-//MyApp//Calendar 1.0//EN
BEGIN:VEVENT
METHOD:PUBLISH
UID:61707@regionalniportaly.cz
DTSTAMP:20260422T111339Z
DTSTART;VALUE=DATE:20260207
DTEND;VALUE=DATE:20260208
SUMMARY:Dětský maškarní ples
DESCRIPTION:Hasiči Holubice za podpory obce Holubice pořádají dětský maškarní ples\, který se bude konat ve dnech 7.2. a 8.2. 2026&nbsp\;v sále kulturního střediska - Holubice 96 od 14:00h.Pro letošní rok jsme se rozhodli maškarní plesy uspořádat dva\, vzhledem ke zkušenosti z minulého roku\, kdy se nedostalo na všechnySál bude otevřen od 13:15hNa děti bude čekat bohatá tombola a animační program ve stylu cirkus show s Deni a Teri!&nbsp\;Všichni jste srdečně zváni\, těšíme se na Vás!&nbsp\;
LOCATION:Holubice
END:VEVENT
END:VCALENDAR