BEGIN:VCALENDAR
VERSION:2.0
CALSCALE:GREGORIAN
PRODID:-//MyApp//Calendar 1.0//EN
BEGIN:VEVENT
METHOD:PUBLISH
UID:61862@regionalniportaly.cz
DTSTAMP:20260422T190958Z
DTSTART;VALUE=DATE:20260131
DTEND;VALUE=DATE:20260201
SUMMARY:Mozart ve Slavkově - ZRUŠENO PRO NEMOC
DESCRIPTION:Mozart ve Slavkově – ZRUŠENO!OZNÁMENÍ O ZRUŠENÍ PŘEDSTAVENÍVážení návštěvníci\,s velkou lítostí vám oznamujeme\, že divadelní představeníMOZART VE SLAVKOVĚje zrušeno z důvodu nemoci.   Tato situace nás velmi mrzí\, protože jsme se na setkání s vámi moc těšili. Omlouváme se za veškeré komplikace\, které vám tím mohly vzniknout\, a děkujeme za pochopení.  Vrácení vstupného: Vstupenky zakoupené v hotovosti– vstupné vám bude vráceno v Turistické informační centrum – Slavkov u Brna Vstupenky zakoupené kartou / online– prosíme\, kontaktujte nás na e-mailu:infocentrum@zamek-slavkov.cz nebo volejte: 513 034 156Ještě jednou se vám upřímně omlouváme a věříme\, že se s vámi brzy setkáme při některé z dalších akcí.
LOCATION:Slavkov u Brna
END:VEVENT
END:VCALENDAR