BEGIN:VCALENDAR
VERSION:2.0
CALSCALE:GREGORIAN
PRODID:-//MyApp//Calendar 1.0//EN
BEGIN:VEVENT
METHOD:PUBLISH
UID:62117@regionalniportaly.cz
DTSTAMP:20260423T095928Z
DTSTART;VALUE=DATE:20260207
DTEND;VALUE=DATE:20260208
SUMMARY:Krojové ples
DESCRIPTION:
LOCATION:Slavkov u Brna
END:VEVENT
END:VCALENDAR