BEGIN:VCALENDAR
VERSION:2.0
CALSCALE:GREGORIAN
PRODID:-//MyApp//Calendar 1.0//EN
BEGIN:VEVENT
METHOD:PUBLISH
UID:62685@regionalniportaly.cz
DTSTAMP:20260422T191007Z
DTSTART;VALUE=DATE:20260214
DTEND;VALUE=DATE:20260215
SUMMARY:Valentýnská Pártoška
DESCRIPTION:🎉 Valentýnská PÁRTOŠKA ❤️Valentýn nemusí být jen o večeři při svíčkách.V sobotu 14. února roztančíme Kulturní dům v Blažovicích na plné obrátky!Čeká tě nabombená party\, DJ\, skvělá atmosféra a noc plná hudby\, tance a valentýnské energie.Vezmi partnera\, partu kamarádů -&nbsp\;nebo doraz klidně sám. Tahle noc je pro všechny\, kdo si chtějí Valentýna užít po svém.⭐ Cena vstupného ⭐✖️ První&nbsp\;vlna (100 vstupenek) - vyprodáno👉 Druhá&nbsp\;vlna (100 vstupenek)&nbsp\;- 229 Kč👉 LAST CHANCE (80 vstupenek) - 249 Kč&nbsp\;
LOCATION:Blažovice
END:VEVENT
END:VCALENDAR