BEGIN:VCALENDAR
VERSION:2.0
CALSCALE:GREGORIAN
PRODID:-//MyApp//Calendar 1.0//EN
BEGIN:VEVENT
METHOD:PUBLISH
UID:63098@regionalniportaly.cz
DTSTAMP:20260422T191100Z
DTSTART;VALUE=DATE:20260308
DTEND;VALUE=DATE:20260309
SUMMARY:Zimní královna
DESCRIPTION:O ZIMNÍ KRÁLOVNĚ\nZ ledu mám zámek\na ledový stůl\nledový vánek\nchlad přítel je můj.\nZámek je můj\, můj \, můj!\n \nToto jsou slova ozývající se z komnat zámku. Zimní královna zaklela zámek a všude zavládla nekonečná zima. Děti\, pomůžete osvobodit a rozehřát zakletý zámek?\nZveme vás na kostýmovanou pátrací hru pro děti v setmělém zámku\, která proběhne:\nNeděle 8. 3. 2026\nV časech: 16:30\, 17:30 a 18:30 hodin\n \nNezapomeňte se teple obléci a přinést si vlastní světýlko.\n \nVstupenky je nutné zakoupit předem: On-line: ZDE Osobně: Turistické informační centrum - Slavkov u Brna\nHra je vhodná pro děti\, které již umí číst a psát.Těšíme se na vaši návštěvu a společné dobrodružství!
LOCATION:Slavkov u Brna
END:VEVENT
END:VCALENDAR