BEGIN:VCALENDAR
VERSION:2.0
CALSCALE:GREGORIAN
PRODID:-//MyApp//Calendar 1.0//EN
BEGIN:VEVENT
METHOD:PUBLISH
UID:6626@regionalniportaly.cz
DTSTAMP:20260421T112313Z
DTSTART;VALUE=DATE:20160625
DTEND;VALUE=DATE:20160626
SUMMARY:Oldtimer festival
DESCRIPTION:
LOCATION:Slavkov u Brna
END:VEVENT
END:VCALENDAR