BEGIN:VCALENDAR
VERSION:2.0
CALSCALE:GREGORIAN
PRODID:-//MyApp//Calendar 1.0//EN
BEGIN:VEVENT
METHOD:PUBLISH
UID:8312@regionalniportaly.cz
DTSTAMP:20260425T013125Z
DTSTART;VALUE=DATE:20161126
DTEND;VALUE=DATE:20161127
SUMMARY:3. vánoční muzejní jarmark
DESCRIPTION:Prodej řemeslných výrobků vhodných jako vánoční dárky nebo k vánoční výzdobě. Muzejní vánoční dílnička pro malé i velké. Prohlídka výstavy Ten dělá to a ten zas tohle. Vstup na vánoční jarmark zdarma.
LOCATION:Vyškov
END:VEVENT
END:VCALENDAR