BEGIN:VCALENDAR
VERSION:2.0
CALSCALE:GREGORIAN
PRODID:-//MyApp//Calendar 1.0//EN
BEGIN:VEVENT
METHOD:PUBLISH
UID:8313@regionalniportaly.cz
DTSTAMP:20260425T013159Z
DTSTART;VALUE=DATE:20161126
DTEND;VALUE=DATE:20161127
SUMMARY:Slavnostní rozsvěcení vánočního stromu v Dědicích
DESCRIPTION:Hry pro děti\, hrané koledy a občerstvení.\n\nKdy:\n26.11.2016 16:00\nKde:\nNáměstí Svobody Dědice\nPořadatel akce:\nOsadní výbor Dědice
LOCATION:Vyškov
END:VEVENT
END:VCALENDAR