BEGIN:VCALENDAR
VERSION:2.0
CALSCALE:GREGORIAN
PRODID:-//MyApp//Calendar 1.0//EN
BEGIN:VEVENT
METHOD:PUBLISH
UID:8343@regionalniportaly.cz
DTSTAMP:20260425T030910Z
DTSTART;VALUE=DATE:20170129
DTEND;VALUE=DATE:20170130
SUMMARY:Ten dělá to a ten zas tohle - do 29. 1.
DESCRIPTION:Interaktivní výstava o tradičních řemeslech s dílnami\, kde si je můžete sami vyzkoušet\n \nInteraktivní výstava určená nejen dětem a mládeži o tradičních řemeslech a profesích\, které jsou důležité i dnes. Na výstavě prezentujeme předměty z muzejní sbírky – nářadí a výrobky vztahující se ke kovářství\, stolařství\, ševcovství\, tkalcovství\, hrnčířství ale také třeba pernikářství. Hlavní součástí výstavy však jsou malé dílny\, kde si můžete některá z řemesel vyzkoušet a třeba se inspirovat pro budoucí profesi.\nVstupné: 50 Kč\, snížené 25 Kč
LOCATION:Vyškov
END:VEVENT
END:VCALENDAR