BEGIN:VCALENDAR
VERSION:2.0
CALSCALE:GREGORIAN
PRODID:-//MyApp//Calendar 1.0//EN
BEGIN:VEVENT
METHOD:PUBLISH
UID:8555@regionalniportaly.cz
DTSTAMP:20260425T030901Z
DTSTART;VALUE=DATE:20161224
DTEND;VALUE=DATE:20161225
SUMMARY:Betlémské světlo
DESCRIPTION:V letošním roce si můžete přijít pro betlémské světlo v sobotu 24. prosince od 8 do 15.30 hodin do kostela Vzkříšení Páně ve Slavkově. Betlémské světlo je plamínek\, který putuje napříč Evropou každoročně. Světýlko bývá zažehnuto v místě narození Ježíše Krista\, v palestinském Betlémě. Myšlenka šíření předvánočního pokoje a míru vznikla v Rakousku\, odkud se rozšířila do pětadvaceti zemí světa. Tak byla založena novodobá vánoční tradice. Na setkání s Vámi se těší slavkovští skauti!
LOCATION:Slavkov u Brna
END:VEVENT
END:VCALENDAR