BEGIN:VCALENDAR
VERSION:2.0
CALSCALE:GREGORIAN
PRODID:-//MyApp//Calendar 1.0//EN
BEGIN:VEVENT
METHOD:PUBLISH
UID:8744@regionalniportaly.cz
DTSTAMP:20260423T224440Z
DTSTART;VALUE=DATE:20170114
DTEND;VALUE=DATE:20170115
SUMMARY:Třináctý městský ples
DESCRIPTION:Město Slavkov u Brna vás srdečně zve na 13. městský ples\, který se bude konat v sobotu 14. ledna v sálech SC Bonaparte. Začátek je ve 20 hodin. Na pódiu se bude hrát skupina Charlie's K band Ludvíka Čihánka. Frontman kapely hostuje i ve známých skupinách jako je například Miro Žbirka nebo No Name. Hudba nebude znít pouze ve velkém sále\, ale také v restauraci. Od 21.30 do 2.00 hodin tam bude hrát cimbálová muzika. Ples zahájí slavkovský cheerlingový team Glitter Stars. Součástí programu bude také bohatá tombola. Vstupenky v hodnotě 180 Kč jsou k dispozici od 2. ledna v informačním centru na Palackého náměstí 1. Těšíme se na vaši účast.
LOCATION:Slavkov u Brna
END:VEVENT
END:VCALENDAR